BEGIN:VCALENDAR
VERSION:2.0
PRODID:-//lightbulb/agenda//NONSGML v1.0//EN
CALSCALE:GREGORIAN
BEGIN:VEVENT
UID:5218f316b3f85b751c613a06aa18010d
DTSTAMP:20200817T004745
DTSTART:20201212T000000
DTEND:20201213T000000
SUMMARY:Marché de Noël
LOCATION:Place Dr F. Kons
ORGANIZER:Ville de Remich
END:VEVENT
END:VCALENDAR
