BEGIN:VCALENDAR
VERSION:2.0
PRODID:-//lightbulb/agenda//NONSGML v1.0//EN
CALSCALE:GREGORIAN
BEGIN:VEVENT
UID:0f0d67e214f9fef69b278e3d08114da9
DTSTAMP:20210721T112437
DTSTART:20210712T000000
DTEND:20210913T000000
SUMMARY:Elephant Parade Luxembourg | Bébés éléphants colorés à Remich
LOCATION:Esplanade
URL;VALUE=URI:www.elephantparade.lu
END:VEVENT
END:VCALENDAR
