BEGIN:VCALENDAR
VERSION:2.0
PRODID:-//lightbulb/agenda//NONSGML v1.0//EN
CALSCALE:GREGORIAN
BEGIN:VEVENT
UID:0d46839f6371fb84f6b6c682f5fc2c77
DTSTAMP:20210722T155302
DTSTART:20210325T193000
SUMMARY:Poterowend
LOCATION:Veräinshaus (1\, montée St. Urbain | Remich)
ORGANIZER:Commission de l'intégration
END:VEVENT
END:VCALENDAR
