BEGIN:VCALENDAR
VERSION:2.0
PRODID:-//lightbulb/agenda//NONSGML v1.0//EN
CALSCALE:GREGORIAN
BEGIN:VEVENT
UID:7e1cacfb27da22fb243ff2debf4443a0
DTSTAMP:20210722T155300
DTSTART:20201004T100000
DTEND:20201004T170000
SUMMARY:Hierschtmoart
LOCATION:Esplanade
ORGANIZER:Ville de Remich
END:VEVENT
END:VCALENDAR
