BEGIN:VCALENDAR
VERSION:2.0
PRODID:-//lightbulb/agenda//NONSGML v1.0//EN
CALSCALE:GREGORIAN
BEGIN:VEVENT
UID:19d47109e3c9e2c1423eac228aff27d1
DTSTAMP:20210722T154234
DTSTART:20210818T000000
DTEND:20210821T000000
SUMMARY:Open-air cinéma
LOCATION:Place Dr F. Kons
ORGANIZER:Ville de Remich
URL;VALUE=URI:visitremich.lu
END:VEVENT
END:VCALENDAR
