BEGIN:VCALENDAR
VERSION:2.0
PRODID:-//lightbulb/agenda//NONSGML v1.0//EN
CALSCALE:GREGORIAN
BEGIN:VEVENT
UID:f862d13454fd267baa5fedfffb200567
DTSTAMP:20210722T154603
DTSTART:20211220T120000
DTEND:20211220T180000
SUMMARY:Réimecher Moart
LOCATION:Esplanade\, Remich
ORGANIZER:Ville de Remich
END:VEVENT
END:VCALENDAR
