BEGIN:VCALENDAR
VERSION:2.0
PRODID:-//lightbulb/agenda//NONSGML v1.0//EN
CALSCALE:GREGORIAN
BEGIN:VEVENT
UID:118921efba23fc329e6560b27861f0c2
DTSTAMP:20210722T154548
DTSTART:20211115T120000
DTEND:20211115T180000
SUMMARY:Réimecher Moart
LOCATION:Esplanade\, Remich
ORGANIZER:Ville de Remich
END:VEVENT
END:VCALENDAR
