BEGIN:VCALENDAR
VERSION:2.0
PRODID:-//lightbulb/agenda//NONSGML v1.0//EN
CALSCALE:GREGORIAN
BEGIN:VEVENT
UID:2354c276f1c9156f4b97a11a7aa41254
DTSTAMP:20210722T154518
DTSTART:20210920T120000
DTEND:20210920T180000
SUMMARY:Réimecher Moart
LOCATION:Esplanade\, Remich
ORGANIZER:Ville de Remich
END:VEVENT
END:VCALENDAR
