BEGIN:VCALENDAR
VERSION:2.0
PRODID:-//lightbulb/agenda//NONSGML v1.0//EN
CALSCALE:GREGORIAN
BEGIN:VEVENT
UID:d073bb8d0c47f317dd39de9c9f004e9d
DTSTAMP:20210722T155233
DTSTART:20210315T120000
DTEND:20210315T180000
SUMMARY:Réimecher Moart
LOCATION:Esplanade\, Remich
ORGANIZER:Ville de Remich
END:VEVENT
END:VCALENDAR
