BEGIN:VCALENDAR
VERSION:2.0
PRODID:-//lightbulb/agenda//NONSGML v1.0//EN
CALSCALE:GREGORIAN
BEGIN:VEVENT
UID:107878346e1d8f8fe6af7a7a588aa807
DTSTAMP:20210722T154216
DTSTART:20210813T000000
DTEND:20210815T000000
SUMMARY:Street Food Festival Remich
LOCATION:Esplanade
ORGANIZER:Tat und Drang
URL;VALUE=URI:https://www.facebook.com/events/2461773317483893/
END:VEVENT
END:VCALENDAR
