BEGIN:VCALENDAR
VERSION:2.0
PRODID:-//lightbulb/agenda//NONSGML v1.0//EN
CALSCALE:GREGORIAN
BEGIN:VEVENT
UID:7ec2442aa04c157590b2fa1a7d093a33
DTSTAMP:20210722T154119
DTSTART:20210731T000000
DTEND:20210829T000000
SUMMARY:Vëlosummer 2021 | Mam Jangeli bei d’Kätti
ORGANIZER:Commune de Mondorf-les-Bains\, Ville de Remich & Commune de Schengen
URL;VALUE=URI:http://www.velosummer.lu
END:VEVENT
END:VCALENDAR
