BEGIN:VCALENDAR
VERSION:2.0
PRODID:-//lightbulb/agenda//NONSGML v1.0//EN
CALSCALE:GREGORIAN
BEGIN:VEVENT
UID:58b4095fb5335282cc3fde57c643da38
DTSTAMP:20210722T154457
DTSTART:20210828T093000
DTEND:20210828T103000
SUMMARY:Zumba Gold
LOCATION:Place Dr F. Kons
ORGANIZER:Adeline Trouillot
END:VEVENT
END:VCALENDAR
