BEGIN:VCALENDAR
VERSION:2.0
PRODID:-//lightbulb/agenda//NONSGML v1.0//EN
CALSCALE:GREGORIAN
BEGIN:VEVENT
UID:d128a9569b806e3a93c91293aed3f40b
DTSTAMP:20210722T154340
DTSTART:20210814T093000
DTEND:20210814T103000
SUMMARY:Zumba Gold
LOCATION:Place Dr F. Kons
ORGANIZER:Adeline Trouillot
END:VEVENT
END:VCALENDAR
