BEGIN:VCALENDAR
VERSION:2.0
PRODID:-//lightbulb/agenda//NONSGML v1.0//EN
CALSCALE:GREGORIAN
BEGIN:VEVENT
UID:9c16f6606460d1543759fc966b9bb797
DTSTAMP:20210722T154307
DTSTART:20210807T093000
DTEND:20210807T103000
SUMMARY:Zumba Gold
LOCATION:Place Dr F. Kons
ORGANIZER:Adeline Trouillot
END:VEVENT
END:VCALENDAR
