BEGIN:VCALENDAR
VERSION:2.0
PRODID:-//lightbulb/agenda//NONSGML v1.0//EN
CALSCALE:GREGORIAN
BEGIN:VEVENT
UID:68aea522760347926520bfa959f15240
DTSTAMP:20210722T154202
DTSTART:20210731T093000
DTEND:20210731T103000
SUMMARY:Zumba Gold
LOCATION:Place Dr F. Kons
ORGANIZER:Adeline Trouillot
END:VEVENT
END:VCALENDAR
