BEGIN:VCALENDAR
VERSION:2.0
PRODID:-//lightbulb/agenda//NONSGML v1.0//EN
CALSCALE:GREGORIAN
BEGIN:VEVENT
UID:572201a4497b0b9f02d4f279b09ec30d
DTSTAMP:20210722T154133
DTSTART:20210724T093000
DTEND:20210724T103000
SUMMARY:Zumba Gold
LOCATION:Place Dr F. Kons
ORGANIZER:Adeline Trouillot
END:VEVENT
END:VCALENDAR
