BEGIN:VCALENDAR
VERSION:2.0
PRODID:-//lightbulb/agenda//NONSGML v1.0//EN
CALSCALE:GREGORIAN
BEGIN:VEVENT
UID:229aeb9e2ae66f2fac1149e5240b2fdd
DTSTAMP:20210722T154443
DTSTART:20210826T093000
DTEND:20210826T103000
SUMMARY:Zumba
LOCATION:Place Dr F. Kons
ORGANIZER:Adeline Trouillot
END:VEVENT
END:VCALENDAR
