BEGIN:VCALENDAR
VERSION:2.0
PRODID:-//lightbulb/agenda//NONSGML v1.0//EN
CALSCALE:GREGORIAN
BEGIN:VEVENT
UID:de8aa43e5d5fa8536cf23e54244476fa
DTSTAMP:20210722T154414
DTSTART:20210819T093000
DTEND:20210819T103000
SUMMARY:Zumba
LOCATION:Place Dr F. Kons
ORGANIZER:Adeline Trouillot
END:VEVENT
END:VCALENDAR
