BEGIN:VCALENDAR
VERSION:2.0
PRODID:-//lightbulb/agenda//NONSGML v1.0//EN
CALSCALE:GREGORIAN
BEGIN:VEVENT
UID:09853c7fb1d3f8ee67a61b6bf4a7f8e6
DTSTAMP:20210722T154326
DTSTART:20210812T093000
DTEND:20210812T103000
SUMMARY:Zumba
LOCATION:Place Dr F. Kons
ORGANIZER:Adeline Trouillot
END:VEVENT
END:VCALENDAR
