BEGIN:VCALENDAR
VERSION:2.0
PRODID:-//lightbulb/agenda//NONSGML v1.0//EN
CALSCALE:GREGORIAN
BEGIN:VEVENT
UID:933596b8ed665b3c5c6ed32079b2d20e
DTSTAMP:20210722T154252
DTSTART:20210805T093000
DTEND:20210805T103000
SUMMARY:Zumba
LOCATION:Place Dr F. Kons
ORGANIZER:Adeline Trouillot
END:VEVENT
END:VCALENDAR
