BEGIN:VCALENDAR
VERSION:2.0
PRODID:-//lightbulb/agenda//NONSGML v1.0//EN
CALSCALE:GREGORIAN
BEGIN:VEVENT
UID:0dd6049f5fa537d41753be6d37859430
DTSTAMP:20210721T112509
DTSTART:20210722T093000
DTEND:20210722T103000
SUMMARY:Zumba
LOCATION:Place Dr F. Kons
ORGANIZER:Adeline Trouillot
END:VEVENT
END:VCALENDAR
