BEGIN:VCALENDAR
VERSION:2.0
PRODID:-//lightbulb/agenda//NONSGML v1.0//EN
CALSCALE:GREGORIAN
BEGIN:VEVENT
UID:e2a7555f7cabd6e31aef45cb8cda4999
DTSTAMP:20210722T154148
DTSTART:20210727T000000
DTEND:20210727T000000
SUMMARY:Zumba
LOCATION:Cour de l'école Gewännchen | 8\, rue des Champs
ORGANIZER:Adeline Trouillot
END:VEVENT
END:VCALENDAR
