BEGIN:VCALENDAR
VERSION:2.0
PRODID:-//lightbulb/agenda//NONSGML v1.0//EN
CALSCALE:GREGORIAN
BEGIN:VEVENT
UID:b4d6f2b565ca0eef1f9245403aac366a
DTSTAMP:20210722T154322
DTSTART:20210810T000000
DTEND:20210810T000000
SUMMARY:Zumba
LOCATION:Cour de l'école Gewännchen | 8\, rue des Champs
ORGANIZER:Adeline Trouillot
END:VEVENT
END:VCALENDAR
