BEGIN:VCALENDAR
VERSION:2.0
PRODID:-//lightbulb/agenda//NONSGML v1.0//EN
CALSCALE:GREGORIAN
BEGIN:VEVENT
UID:22cdb13a83f73ccd1f79ffaf607b0621
DTSTAMP:20210722T154410
DTSTART:20210817T000000
DTEND:20210817T000000
SUMMARY:Zumba
LOCATION:Cour de l'école Gewännchen | 8\, rue des Champs
ORGANIZER:Adeline Trouillot
END:VEVENT
END:VCALENDAR
