BEGIN:VCALENDAR
VERSION:2.0
PRODID:-//lightbulb/agenda//NONSGML v1.0//EN
CALSCALE:GREGORIAN
BEGIN:VEVENT
UID:06fb3cba82080bf8f3721739019d6792
DTSTAMP:20210722T154617
DTSTART:20210803T000000
DTEND:20210703T000000
SUMMARY:Zumba
LOCATION:Cour de l'école Gewännchen | 8\, rue des Champs
ORGANIZER:Adeline Trouillot
END:VEVENT
END:VCALENDAR
