BEGIN:VCALENDAR
VERSION:2.0
PRODID:-//lightbulb/agenda//NONSGML v1.0//EN
CALSCALE:GREGORIAN
BEGIN:VEVENT
UID:83decbc20d665926df9335a0a3be7e3b
DTSTAMP:20210721T112454
DTSTART:20210720T000000
DTEND:20210720T000000
SUMMARY:Zumba
LOCATION:Cour de l'école Gewännchen | 8\, rue des Champs
ORGANIZER:Adeline Trouillot
END:VEVENT
END:VCALENDAR
